BEGIN:VCALENDAR
VERSION:2.0
PRODID:-//jEvents 2.0 for Joomla//EN
CALSCALE:GREGORIAN
METHOD:PUBLISH
BEGIN:VEVENT
UID:c505ead00614f5cf2c5abcedd7b17d54
CATEGORIES:DEFAULT
SUMMARY:Marche Nordique
LOCATION:Rendez-vous parking Quai La Fayette
DESCRIPTION;ENCODING=QUOTED-PRINTABLE:
X-EXTRAINFO:.
DTSTAMP:20260421T094933Z
DTSTART:20250417T114500Z
SEQUENCE:0
TRANSP:OPAQUE
END:VEVENT
END:VCALENDAR