BEGIN:VCALENDAR
VERSION:2.0
PRODID:-//jEvents 2.0 for Joomla//EN
CALSCALE:GREGORIAN
METHOD:PUBLISH
BEGIN:VEVENT
UID:9b1dfb7b29f9f28260a611a0971286a5
CATEGORIES:DEFAULT
SUMMARY:Marche Nordique
LOCATION:Rendez-vous parking Quai La Fayette
DESCRIPTION;ENCODING=QUOTED-PRINTABLE:
X-EXTRAINFO:.
DTSTAMP:20260423T142919Z
DTSTART:20240113T080000Z
SEQUENCE:0
RRULE:FREQ=WEEKLY;UNTIL=20240616T000000Z;INTERVAL=1;BYDAY=SA
TRANSP:OPAQUE
END:VEVENT
END:VCALENDAR