BEGIN:VCALENDAR
VERSION:2.0
PRODID:-//jEvents 2.0 for Joomla//EN
CALSCALE:GREGORIAN
METHOD:PUBLISH
BEGIN:VEVENT
UID:cbefc6999144e4c1f2a5e5472a1c5f63
CATEGORIES:DEFAULT
SUMMARY:Marche Nordique
DESCRIPTION;ENCODING=QUOTED-PRINTABLE:
X-EXTRAINFO:.
DTSTAMP:20260425T113801Z
DTSTART:20231116T124500Z
DTEND:20231116T160000Z
SEQUENCE:0
RRULE:FREQ=WEEKLY;UNTIL=20231215T000000Z;INTERVAL=1;BYDAY=TH
TRANSP:OPAQUE
END:VEVENT
END:VCALENDAR