BEGIN:VCALENDAR
VERSION:2.0
PRODID:-//jEvents 2.0 for Joomla//EN
CALSCALE:GREGORIAN
METHOD:PUBLISH
BEGIN:VEVENT
UID:9ed5d8fc4a2adc8d8647daf1b3b99964
CATEGORIES:DEFAULT
SUMMARY:Assemblée Générale
LOCATION:Salle Carbonnar
DESCRIPTION;ENCODING=QUOTED-PRINTABLE:
X-EXTRAINFO:Suivi d'un repas (Inscriptions auprès de Josiane ou Gérard L'HOTE pour le 1
 5/01/2025 dernier délai avec chèque de participation de 20 euros)
DTSTAMP:20260423T144901Z
DTSTART:20250126T080000Z
SEQUENCE:0
TRANSP:OPAQUE
END:VEVENT
END:VCALENDAR