BEGIN:VCALENDAR
VERSION:2.0
PRODID:-//jEvents 2.0 for Joomla//EN
CALSCALE:GREGORIAN
METHOD:PUBLISH
BEGIN:VEVENT
UID:1a2ff4c580ab6a3639d8e70c377f34d6
CATEGORIES:DEFAULT
SUMMARY:Randonnée douce organisée par Bernard Braganti
LOCATION:Rendez-vous Square La Fayette
DESCRIPTION;ENCODING=QUOTED-PRINTABLE:
X-EXTRAINFO:.
DTSTAMP:20260423T162756Z
DTSTART:20241218T123000Z
SEQUENCE:0
TRANSP:OPAQUE
END:VEVENT
END:VCALENDAR