BEGIN:VCALENDAR
VERSION:2.0
PRODID:-//jEvents 2.0 for Joomla//EN
CALSCALE:GREGORIAN
METHOD:PUBLISH
BEGIN:VEVENT
UID:158e94ea85408fe9fa281d87eb274b9a
CATEGORIES:DEFAULT
SUMMARY:Randonnée organisée par François Goethals
DESCRIPTION;ENCODING=QUOTED-PRINTABLE:
X-EXTRAINFO:avec repas tiré du sac
DTSTAMP:20260425T130223Z
DTSTART:20241020T063000Z
SEQUENCE:0
TRANSP:OPAQUE
END:VEVENT
END:VCALENDAR