BEGIN:VCALENDAR
VERSION:2.0
PRODID:-//jEvents 2.0 for Joomla//EN
CALSCALE:GREGORIAN
METHOD:PUBLISH
BEGIN:VEVENT
UID:143c5b22c7bfa1b52f97a321be266d35
CATEGORIES:DEFAULT
SUMMARY:Pique-nique au Hangochet (repas tiré du sac)
DESCRIPTION;ENCODING=QUOTED-PRINTABLE:
X-EXTRAINFO:Suite à la sortie champignons
DTSTAMP:20260425T130231Z
DTSTART:20241009T100000Z
SEQUENCE:0
TRANSP:OPAQUE
END:VEVENT
END:VCALENDAR