BEGIN:VCALENDAR
VERSION:2.0
PRODID:-//jEvents 2.0 for Joomla//EN
CALSCALE:GREGORIAN
METHOD:PUBLISH
BEGIN:VEVENT
UID:3093fe8bedfcdb694d321f108588ce60
CATEGORIES:DEFAULT
SUMMARY:Sortie Champignons et photo organisé par Gaby Devillard
DESCRIPTION;ENCODING=QUOTED-PRINTABLE:
X-EXTRAINFO:Suivi ...
DTSTAMP:20260425T130235Z
DTSTART:20241009T063000Z
SEQUENCE:0
TRANSP:OPAQUE
END:VEVENT
END:VCALENDAR