BEGIN:VCALENDAR
VERSION:2.0
PRODID:-//jEvents 2.0 for Joomla//EN
CALSCALE:GREGORIAN
METHOD:PUBLISH
BEGIN:VEVENT
UID:73db6e17f0433fff3e209a57a0759f1d
CATEGORIES:DEFAULT
SUMMARY:Sortie organisée par Monique Oberlé
DESCRIPTION;ENCODING=QUOTED-PRINTABLE:
X-EXTRAINFO:Journée du patrimoîne
DTSTAMP:20260425T181152Z
DTSTART;VALUE=DATE:20240922
DTEND;VALUE=DATE:20240923
SEQUENCE:0
TRANSP:OPAQUE
END:VEVENT
END:VCALENDAR