BEGIN:VCALENDAR
VERSION:2.0
PRODID:-//jEvents 2.0 for Joomla//EN
CALSCALE:GREGORIAN
METHOD:PUBLISH
BEGIN:VEVENT
UID:24f7d7922676530b798962c97d833882
CATEGORIES:DEFAULT
SUMMARY:Grillades au Hangochet limité à 27 personnes
DESCRIPTION;ENCODING=QUOTED-PRINTABLE:
X-EXTRAINFO:Inscription auprès de G. ou J. L'HOTE (03 29 52 61 66)
DTSTAMP:20260425T113505Z
DTSTART:20240818T090000Z
SEQUENCE:0
TRANSP:OPAQUE
END:VEVENT
END:VCALENDAR