BEGIN:VCALENDAR
VERSION:2.0
PRODID:-//jEvents 2.0 for Joomla//EN
CALSCALE:GREGORIAN
METHOD:PUBLISH
BEGIN:VEVENT
UID:8195e97ec3760fb553adec6ad9401bd6
CATEGORIES:DEFAULT
SUMMARY:Sortie vélo organisée par Bernard Braganti
DESCRIPTION;ENCODING=QUOTED-PRINTABLE:
X-EXTRAINFO:Voie verte de Raon l'étape
DTSTAMP:20260425T130302Z
DTSTART;VALUE=DATE:20240703
DTEND;VALUE=DATE:20240704
SEQUENCE:0
TRANSP:OPAQUE
END:VEVENT
END:VCALENDAR