BEGIN:VCALENDAR
VERSION:2.0
PRODID:-//jEvents 2.0 for Joomla//EN
CALSCALE:GREGORIAN
METHOD:PUBLISH
BEGIN:VEVENT
UID:f5b650dee99adbccb35e2f7c08da982f
CATEGORIES:DEFAULT
SUMMARY:Randonnée organisée par Monique Oberlé
LOCATION:Rendez-vous Square La Fayette
DESCRIPTION;ENCODING=QUOTED-PRINTABLE:
X-EXTRAINFO:Repas tiré du sac
DTSTAMP:20260423T171357Z
DTSTART:20240602T063000Z
SEQUENCE:0
TRANSP:OPAQUE
END:VEVENT
END:VCALENDAR