BEGIN:VCALENDAR
VERSION:2.0
PRODID:-//jEvents 2.0 for Joomla//EN
CALSCALE:GREGORIAN
METHOD:PUBLISH
BEGIN:VEVENT
UID:084f1ba4fa1d786e7b4329028d015b32
CATEGORIES:DEFAULT
SUMMARY:Repas organisé par Francine Habert
LOCATION:Au Hangochet
DESCRIPTION;ENCODING=QUOTED-PRINTABLE:
X-EXTRAINFO:.
DTSTAMP:20260423T132622Z
DTSTART:20240526T100000Z
SEQUENCE:0
TRANSP:OPAQUE
END:VEVENT
END:VCALENDAR