BEGIN:VCALENDAR
VERSION:2.0
PRODID:-//jEvents 2.0 for Joomla//EN
CALSCALE:GREGORIAN
METHOD:PUBLISH
BEGIN:VEVENT
UID:c4dc85e3707c19e17339e36ad8525788
CATEGORIES:DEFAULT
SUMMARY:Randonnée organisée par François Goethals
LOCATION:Rendez-vous Square La Fayette
DESCRIPTION;ENCODING=QUOTED-PRINTABLE:
X-EXTRAINFO:Repas tiré du sac
DTSTAMP:20260423T143129Z
DTSTART:20240512T063000Z
SEQUENCE:0
TRANSP:OPAQUE
END:VEVENT
END:VCALENDAR