BEGIN:VCALENDAR
VERSION:2.0
PRODID:-//jEvents 2.0 for Joomla//EN
CALSCALE:GREGORIAN
METHOD:PUBLISH
BEGIN:VEVENT
UID:7ac3bf0f73bc8b2e3f8e680fa5d42db3
CATEGORIES:DEFAULT
SUMMARY:Séjours dans le Doubs organisée par Françoise Hamann
DESCRIPTION;ENCODING=QUOTED-PRINTABLE:
X-EXTRAINFO:Sur inscription
DTSTAMP:20260423T145850Z
DTSTART;VALUE=DATE:20240505
DTEND;VALUE=DATE:20240510
SEQUENCE:0
TRANSP:OPAQUE
END:VEVENT
END:VCALENDAR