BEGIN:VCALENDAR
VERSION:2.0
PRODID:-//jEvents 2.0 for Joomla//EN
CALSCALE:GREGORIAN
METHOD:PUBLISH
BEGIN:VEVENT
UID:c6d54b32714909e6a462589a45bd5f6d
CATEGORIES:DEFAULT
SUMMARY:Séances de relaxation
LOCATION:Salle espace Gérard Philipe
DESCRIPTION;ENCODING=QUOTED-PRINTABLE:<p>organisée par Elisabeth Couturieux (pour information et inscription 06 8
 7 11 34 46)</p>
X-EXTRAINFO:organisée par Elisabeth Couturieux (pour information et inscription 06 87 1
 1 34 46)
DTSTAMP:20260425T101756Z
DTSTART:20240503T130000Z
DTEND:20240503T150000Z
SEQUENCE:0
TRANSP:OPAQUE
END:VEVENT
END:VCALENDAR