BEGIN:VCALENDAR
VERSION:2.0
PRODID:-//jEvents 2.0 for Joomla//EN
CALSCALE:GREGORIAN
METHOD:PUBLISH
BEGIN:VEVENT
UID:2b862e1aa09e568e5c4e6625b938a290
CATEGORIES:DEFAULT
SUMMARY:Séances de relaxation
LOCATION:Salle espace Gérard Philipe
DESCRIPTION;ENCODING=QUOTED-PRINTABLE:<p>organisée par Elisabeth Couturieux (pour information et inscription 06 8
 7 11 34 46)</p>
X-EXTRAINFO:organisée par Elisabeth Couturieux (pour information et inscription 06 87 1
 1 34 46)
DTSTAMP:20260425T101805Z
DTSTART:20240503T080000Z
DTEND:20240503T100000Z
SEQUENCE:0
TRANSP:OPAQUE
END:VEVENT
END:VCALENDAR