BEGIN:VCALENDAR
VERSION:2.0
PRODID:-//jEvents 2.0 for Joomla//EN
CALSCALE:GREGORIAN
METHOD:PUBLISH
BEGIN:VEVENT
UID:042f6612d5e1fa3c77688f149d426361
CATEGORIES:DEFAULT
SUMMARY:Repas par Geneviève Goethals
LOCATION:Au Hangochet
DESCRIPTION;ENCODING=QUOTED-PRINTABLE:
X-EXTRAINFO:Réservation obligatoire avant le 14 Mars
DTSTAMP:20260423T132426Z
DTSTART:20240320T110000Z
SEQUENCE:0
TRANSP:OPAQUE
END:VEVENT
END:VCALENDAR