BEGIN:VCALENDAR
VERSION:2.0
PRODID:-//jEvents 2.0 for Joomla//EN
CALSCALE:GREGORIAN
METHOD:PUBLISH
BEGIN:VEVENT
UID:ca338887728a9140ff74fd4d21272a15
CATEGORIES:DEFAULT
SUMMARY:Repas par Geneviève Goethals
LOCATION:Au Hangochet
DESCRIPTION;ENCODING=QUOTED-PRINTABLE:
X-EXTRAINFO:Réservation obligatoire avant le 14 Mars
DTSTAMP:20260423T131659Z
DTSTART:20240317T110000Z
SEQUENCE:0
TRANSP:OPAQUE
END:VEVENT
END:VCALENDAR