BEGIN:VCALENDAR
VERSION:2.0
PRODID:-//jEvents 2.0 for Joomla//EN
CALSCALE:GREGORIAN
METHOD:PUBLISH
BEGIN:VEVENT
UID:e2f6ff0ca9352ffdb0601f2d0ba5d87e
CATEGORIES:DEFAULT
SUMMARY:Randonnée organisée par François Goethals
LOCATION:Rendez-vous Square La Fayette
DESCRIPTION;ENCODING=QUOTED-PRINTABLE:
X-EXTRAINFO:Repas tiré du sac
DTSTAMP:20260423T132655Z
DTSTART:20240310T073000Z
SEQUENCE:0
TRANSP:OPAQUE
END:VEVENT
END:VCALENDAR