BEGIN:VCALENDAR
VERSION:2.0
PRODID:-//jEvents 2.0 for Joomla//EN
CALSCALE:GREGORIAN
METHOD:PUBLISH
BEGIN:VEVENT
UID:ebcdcbc18794250a46cfeeb2d3230b53
CATEGORIES:DEFAULT
SUMMARY:Réunion de CA
LOCATION:Salle espace Gérard Philipe
DESCRIPTION;ENCODING=QUOTED-PRINTABLE:
X-EXTRAINFO:.
DTSTAMP:20260423T131659Z
DTSTART:20240301T190000Z
SEQUENCE:0
TRANSP:OPAQUE
END:VEVENT
END:VCALENDAR