BEGIN:VCALENDAR
VERSION:2.0
PRODID:-//jEvents 2.0 for Joomla//EN
CALSCALE:GREGORIAN
METHOD:PUBLISH
BEGIN:VEVENT
UID:3dd4180ad038b78c0cdb7126184f7b85
CATEGORIES:DEFAULT
SUMMARY:Diaporamas par André Antoine
LOCATION:Salle Cholé au musée (St-Dié)
DESCRIPTION;ENCODING=QUOTED-PRINTABLE:
X-EXTRAINFO:Entrée libre
DTSTAMP:20260423T144508Z
DTSTART:20240216T193000Z
SEQUENCE:0
TRANSP:OPAQUE
END:VEVENT
END:VCALENDAR