BEGIN:VCALENDAR
VERSION:2.0
PRODID:-//jEvents 2.0 for Joomla//EN
CALSCALE:GREGORIAN
METHOD:PUBLISH
BEGIN:VEVENT
UID:302566319ccef8568bf6a84012cfec61
CATEGORIES:DEFAULT
SUMMARY:Diaporamas par André Antoine
LOCATION:Salle Cholé au musée (St-Dié)
DESCRIPTION;ENCODING=QUOTED-PRINTABLE:
X-EXTRAINFO:Entrée libre
DTSTAMP:20260423T144654Z
DTSTART:20240216T140000Z
SEQUENCE:0
TRANSP:OPAQUE
END:VEVENT
END:VCALENDAR