BEGIN:VCALENDAR
VERSION:2.0
PRODID:-//jEvents 2.0 for Joomla//EN
CALSCALE:GREGORIAN
METHOD:PUBLISH
BEGIN:VEVENT
UID:5a0d3b5cb6431a0584209a5c11508bc2
CATEGORIES:DEFAULT
SUMMARY:Galette
LOCATION:Salle Gérard Philipe
DESCRIPTION;ENCODING=QUOTED-PRINTABLE:
X-EXTRAINFO:inscription OBLIGATOIRE avant le 11/01 : 7 €
DTSTAMP:20260423T160942Z
DTSTART:20240114T150000Z
SEQUENCE:0
TRANSP:OPAQUE
END:VEVENT
END:VCALENDAR