BEGIN:VCALENDAR
VERSION:2.0
PRODID:-//jEvents 2.0 for Joomla//EN
CALSCALE:GREGORIAN
METHOD:PUBLISH
BEGIN:VEVENT
UID:784c665a3a5133a744c509a06f9cdbd8
CATEGORIES:DEFAULT
SUMMARY:Sortie organisée par Monique Oberlé
LOCATION:Rendez-vous Square La Fayette
DESCRIPTION;ENCODING=QUOTED-PRINTABLE:
X-EXTRAINFO:Marché de Noël
DTSTAMP:20260425T154451Z
DTSTART:20231126T080000Z
SEQUENCE:0
TRANSP:OPAQUE
END:VEVENT
END:VCALENDAR