BEGIN:VCALENDAR
VERSION:2.0
PRODID:-//jEvents 2.0 for Joomla//EN
CALSCALE:GREGORIAN
METHOD:PUBLISH
BEGIN:VEVENT
UID:9fce0854b4c32fe41d2795b5da520530
CATEGORIES:DEFAULT
SUMMARY:Après-midi loisirs
LOCATION:Salle espace Gérard Philipe
DESCRIPTION;ENCODING=QUOTED-PRINTABLE:
X-EXTRAINFO:Après-midi loisirs en salle Gérard Philipe (Francine Habert et Micheline Co
 mbeau)
DTSTAMP:20260423T171314Z
DTSTART:20250110T130000Z
SEQUENCE:0
TRANSP:OPAQUE
END:VEVENT
END:VCALENDAR