BEGIN:VCALENDAR
VERSION:2.0
PRODID:-//jEvents 2.0 for Joomla//EN
CALSCALE:GREGORIAN
METHOD:PUBLISH
BEGIN:VEVENT
UID:aa0d21a7842b737060ed50b56295f282
CATEGORIES:DEFAULT
SUMMARY:Après-midi loisirs
LOCATION:Salle espace Gérard Philipe
DESCRIPTION;ENCODING=QUOTED-PRINTABLE:
X-EXTRAINFO:Après-midi loisirs en salle Gérard Philipe (Francine Habert et Micheline Co
 mbeau)
DTSTAMP:20260423T160047Z
DTSTART:20240614T120000Z
SEQUENCE:0
TRANSP:OPAQUE
END:VEVENT
END:VCALENDAR