BEGIN:VCALENDAR
VERSION:2.0
PRODID:-//jEvents 2.0 for Joomla//EN
CALSCALE:GREGORIAN
METHOD:PUBLISH
BEGIN:VEVENT
UID:1570eca04a11ee9949b06da869cce5e8
CATEGORIES:DEFAULT
SUMMARY:Après-midi loisirs
LOCATION:Salle espace Gérard Philipe
DESCRIPTION;ENCODING=QUOTED-PRINTABLE:
X-EXTRAINFO:Après-midi loisirs en salle Gérard Philipe (Francine Habert et Micheline Co
 mbeau)
DTSTAMP:20260423T171358Z
DTSTART:20240223T130000Z
SEQUENCE:0
TRANSP:OPAQUE
END:VEVENT
END:VCALENDAR