BEGIN:VCALENDAR
VERSION:2.0
PRODID:-//jEvents 2.0 for Joomla//EN
CALSCALE:GREGORIAN
METHOD:PUBLISH
BEGIN:VEVENT
UID:8e5f50119f3a0c8bbe54e37586ba5a03
CATEGORIES:DEFAULT
SUMMARY:Après-midi loisirs
LOCATION:Salle espace Gérard Philipe
DESCRIPTION;ENCODING=QUOTED-PRINTABLE:
X-EXTRAINFO:Après-midi loisirs en salle Gérard Philipe (Francine Habert et Micheline Co
 mbeau)
DTSTAMP:20260423T161011Z
DTSTART:20240126T130000Z
SEQUENCE:0
TRANSP:OPAQUE
END:VEVENT
END:VCALENDAR