BEGIN:VCALENDAR
VERSION:2.0
PRODID:-//jEvents 2.0 for Joomla//EN
CALSCALE:GREGORIAN
METHOD:PUBLISH
BEGIN:VEVENT
UID:f9474ec0db53b7a09869167b4f1c1ac4
CATEGORIES:DEFAULT
SUMMARY:Après-midi loisirs
LOCATION:Salle espace Gérard Philipe
DESCRIPTION;ENCODING=QUOTED-PRINTABLE:
X-EXTRAINFO:Après-midi loisirs en salle Gérard Philipe (Francine Habert et Micheline Co
 mbeau)
DTSTAMP:20260425T173342Z
DTSTART:20231124T130000Z
SEQUENCE:0
TRANSP:OPAQUE
END:VEVENT
END:VCALENDAR