BEGIN:VCALENDAR
VERSION:2.0
PRODID:-//jEvents 2.0 for Joomla//EN
CALSCALE:GREGORIAN
METHOD:PUBLISH
BEGIN:VEVENT
UID:925525a61db3b0a645e401220d7867ae
CATEGORIES:DEFAULT
SUMMARY:Sortie
DESCRIPTION;ENCODING=QUOTED-PRINTABLE:<p>Organisée par Monique Oberlé</p>
X-EXTRAINFO:.
DTSTAMP:20260425T163742Z
DTSTART;VALUE=DATE:20230917
DTEND;VALUE=DATE:20230918
SEQUENCE:0
TRANSP:OPAQUE
END:VEVENT
END:VCALENDAR