BEGIN:VCALENDAR
VERSION:2.0
PRODID:-//jEvents 2.0 for Joomla//EN
CALSCALE:GREGORIAN
METHOD:PUBLISH
BEGIN:VEVENT
UID:84f94b904c91b95dc5c94e7a56582fa5
CATEGORIES:DEFAULT
SUMMARY:Marche Nordique
DESCRIPTION;ENCODING=QUOTED-PRINTABLE:
X-EXTRAINFO:.
DTSTAMP:20260425T155953Z
DTSTART:20221203T080000Z
SEQUENCE:0
RRULE:FREQ=WEEKLY;UNTIL=20221218T000000Z;INTERVAL=1;BYDAY=SA
TRANSP:OPAQUE
END:VEVENT
END:VCALENDAR