BEGIN:VCALENDAR
VERSION:2.0
PRODID:-//jEvents 2.0 for Joomla//EN
CALSCALE:GREGORIAN
METHOD:PUBLISH
BEGIN:VEVENT
UID:733d36cf79969a8f0f1077d1b6f934c2
CATEGORIES:DEFAULT
SUMMARY:Marche Nordique
DESCRIPTION;ENCODING=QUOTED-PRINTABLE:
X-EXTRAINFO:.
DTSTAMP:20260425T164223Z
DTSTART:20221201T124500Z
SEQUENCE:0
RRULE:FREQ=WEEKLY;UNTIL=20221223T000000Z;INTERVAL=1;BYDAY=TH
TRANSP:OPAQUE
END:VEVENT
END:VCALENDAR