BEGIN:VCALENDAR
VERSION:2.0
PRODID:-//jEvents 2.0 for Joomla//EN
CALSCALE:GREGORIAN
METHOD:PUBLISH
BEGIN:VEVENT
UID:94cd997614dd1cd9aa656d2d5efdfbdb
CATEGORIES:DEFAULT
SUMMARY:Randonnée douce
DESCRIPTION;ENCODING=QUOTED-PRINTABLE:<p>Organisée par Bernard Braganti.</p>
X-EXTRAINFO:.
DTSTAMP:20260425T141334Z
DTSTART:20231018T113000Z
SEQUENCE:0
TRANSP:OPAQUE
END:VEVENT
END:VCALENDAR