BEGIN:VCALENDAR
VERSION:2.0
PRODID:-//jEvents 2.0 for Joomla//EN
CALSCALE:GREGORIAN
METHOD:PUBLISH
BEGIN:VEVENT
UID:f253169b0c3731e73155b0cf5cec382c
CATEGORIES:DEFAULT
SUMMARY:Randonnée
DESCRIPTION;ENCODING=QUOTED-PRINTABLE:<p>Oraganisée par Monique Oberlé</p>
X-EXTRAINFO:.
DTSTAMP:20260425T141351Z
DTSTART:20231015T070000Z
SEQUENCE:0
TRANSP:OPAQUE
END:VEVENT
END:VCALENDAR