BEGIN:VCALENDAR
VERSION:2.0
PRODID:-//jEvents 2.0 for Joomla//EN
CALSCALE:GREGORIAN
METHOD:PUBLISH
BEGIN:VEVENT
UID:7dd849de162ceb51ccc33a11ebd47b95
CATEGORIES:DEFAULT
SUMMARY:Sortie Champignons
DESCRIPTION;ENCODING=QUOTED-PRINTABLE:<p>Sortie champignons et Photo organisée par : Gaby Devillard (03 29 50 06 
 22).</p><p>Suivi d'un pique-nique au Hangochet (repas tiré du sac)</p>
X-EXTRAINFO:.
DTSTAMP:20260425T141346Z
DTSTART:20231011T063000Z
SEQUENCE:0
TRANSP:OPAQUE
END:VEVENT
END:VCALENDAR