BEGIN:VCALENDAR
VERSION:2.0
PRODID:-//jEvents 2.0 for Joomla//EN
CALSCALE:GREGORIAN
METHOD:PUBLISH
BEGIN:VEVENT
UID:cef3d5622db404a93560b57bb38c0c16
CATEGORIES:DEFAULT
SUMMARY:Réunion de l'Association Locale pour définir le calendrier
DESCRIPTION;ENCODING=QUOTED-PRINTABLE:<p>Salle Gérard Philipe</p>
X-EXTRAINFO:.
DTSTAMP:20260425T141351Z
DTSTART:20231007T070000Z
SEQUENCE:0
TRANSP:OPAQUE
END:VEVENT
END:VCALENDAR