BEGIN:VCALENDAR
VERSION:2.0
PRODID:-//jEvents 2.0 for Joomla//EN
CALSCALE:GREGORIAN
METHOD:PUBLISH
BEGIN:VEVENT
UID:2fb9f7e08dca9eade7e27bb874b777d6
CATEGORIES:DEFAULT
SUMMARY:FIG
DESCRIPTION;ENCODING=QUOTED-PRINTABLE:
X-EXTRAINFO:.
DTSTAMP:20260425T161338Z
DTSTART;VALUE=DATE:20230930
DTEND;VALUE=DATE:20231002
SEQUENCE:0
TRANSP:OPAQUE
END:VEVENT
END:VCALENDAR