BEGIN:VCALENDAR
VERSION:2.0
PRODID:-//jEvents 2.0 for Joomla//EN
CALSCALE:GREGORIAN
METHOD:PUBLISH
BEGIN:VEVENT
UID:670a186f6892ef00bc35b291ecc315ca
CATEGORIES:DEFAULT
SUMMARY:Rénion du CA
DESCRIPTION;ENCODING=QUOTED-PRINTABLE:<p>Salle Gérard Philipe.</p>
X-EXTRAINFO:.
DTSTAMP:20260425T155927Z
DTSTART:20230922T180000Z
SEQUENCE:0
TRANSP:OPAQUE
END:VEVENT
END:VCALENDAR