BEGIN:VCALENDAR
VERSION:2.0
PRODID:-//jEvents 2.0 for Joomla//EN
CALSCALE:GREGORIAN
METHOD:PUBLISH
BEGIN:VEVENT
UID:2b29aee0121379a34183f99e78a871e2
CATEGORIES:DEFAULT
SUMMARY:Journée nettoyage et travaux au Hangochet
DESCRIPTION;ENCODING=QUOTED-PRINTABLE:
X-EXTRAINFO:.
DTSTAMP:20260425T155613Z
DTSTART:20230922T070000Z
SEQUENCE:0
TRANSP:OPAQUE
END:VEVENT
END:VCALENDAR