BEGIN:VCALENDAR
VERSION:2.0
PRODID:-//jEvents 2.0 for Joomla//EN
CALSCALE:GREGORIAN
METHOD:PUBLISH
BEGIN:VEVENT
UID:ebaf2c758d60853f8298df61ab688678
CATEGORIES:DEFAULT
SUMMARY:Journée du patrimoine et journée nationale des Amis de la Nature
DESCRIPTION;ENCODING=QUOTED-PRINTABLE:
X-EXTRAINFO:.
DTSTAMP:20260425T175857Z
DTSTART;VALUE=DATE:20230917
DTEND;VALUE=DATE:20230918
SEQUENCE:0
TRANSP:OPAQUE
END:VEVENT
END:VCALENDAR