BEGIN:VCALENDAR
VERSION:2.0
PRODID:-//jEvents 2.0 for Joomla//EN
CALSCALE:GREGORIAN
METHOD:PUBLISH
BEGIN:VEVENT
UID:cf1206ef46f9bd873df560ea1047d214
CATEGORIES:DEFAULT
SUMMARY:Randonnée
DESCRIPTION;ENCODING=QUOTED-PRINTABLE:<p>Randonnée organisée par : Monique Oberlé.</p><p>Avec la navette des crêt
 es.</p>
X-EXTRAINFO:.
DTSTAMP:20260425T121757Z
DTSTART;VALUE=DATE:20230726
DTEND;VALUE=DATE:20230727
SEQUENCE:0
TRANSP:OPAQUE
END:VEVENT
END:VCALENDAR