BEGIN:VCALENDAR
VERSION:2.0
PRODID:-//jEvents 2.0 for Joomla//EN
CALSCALE:GREGORIAN
METHOD:PUBLISH
BEGIN:VEVENT
UID:38c2e26e97ec029fd680ca7974a6397d
CATEGORIES:DEFAULT
SUMMARY:Réunion de l'Association Locale
DESCRIPTION;ENCODING=QUOTED-PRINTABLE:<p>Au Hangochet.</p>
X-EXTRAINFO:.
DTSTAMP:20260425T114000Z
DTSTART:20230701T070000Z
SEQUENCE:0
TRANSP:OPAQUE
END:VEVENT
END:VCALENDAR