BEGIN:VCALENDAR
VERSION:2.0
PRODID:-//jEvents 2.0 for Joomla//EN
CALSCALE:GREGORIAN
METHOD:PUBLISH
BEGIN:VEVENT
UID:b789b90d6212712c03d3064eda7d4556
CATEGORIES:DEFAULT
SUMMARY:Randonnée oreintation
DESCRIPTION;ENCODING=QUOTED-PRINTABLE:\n\nRandonnée orientation organisée par : François Goethals (03 29 51 95 06
 )\n
X-EXTRAINFO:.
DTSTAMP:20260423T171358Z
DTSTART:20230625T063000Z
SEQUENCE:0
TRANSP:OPAQUE
END:VEVENT
END:VCALENDAR