BEGIN:VCALENDAR
VERSION:2.0
PRODID:-//jEvents 2.0 for Joomla//EN
CALSCALE:GREGORIAN
METHOD:PUBLISH
BEGIN:VEVENT
UID:8b3d6a31198e3c06732c93042eeb1229
CATEGORIES:DEFAULT
SUMMARY:Randonnée douce
DESCRIPTION;ENCODING=QUOTED-PRINTABLE:\n\nOrganisée par Bernard Braganti.\n
X-EXTRAINFO:.
DTSTAMP:20260423T171357Z
DTSTART:20230614T113000Z
SEQUENCE:0
TRANSP:OPAQUE
END:VEVENT
END:VCALENDAR