BEGIN:VCALENDAR
VERSION:2.0
PRODID:-//jEvents 2.0 for Joomla//EN
CALSCALE:GREGORIAN
METHOD:PUBLISH
BEGIN:VEVENT
UID:d571442bc6d205a75d338da7b7099edc
CATEGORIES:DEFAULT
SUMMARY:Randonnée
DESCRIPTION;ENCODING=QUOTED-PRINTABLE:<p>Randonnée organisée par : Monique Oberlé</p>
X-EXTRAINFO:.
DTSTAMP:20260423T171552Z
DTSTART:20230611T070000Z
SEQUENCE:0
TRANSP:OPAQUE
END:VEVENT
END:VCALENDAR