BEGIN:VCALENDAR
VERSION:2.0
PRODID:-//jEvents 2.0 for Joomla//EN
CALSCALE:GREGORIAN
METHOD:PUBLISH
BEGIN:VEVENT
UID:fee20b2d03f4ccf74026bde3281e4724
CATEGORIES:DEFAULT
SUMMARY:Randonnée oreintation
DESCRIPTION;ENCODING=QUOTED-PRINTABLE:<p>Randonnée orientation organisée par : François Goethals (03 29 51 95 06)
 </p>
X-EXTRAINFO:.
DTSTAMP:20260423T160238Z
DTSTART:20230531T063000Z
SEQUENCE:0
TRANSP:OPAQUE
END:VEVENT
END:VCALENDAR