BEGIN:VCALENDAR
VERSION:2.0
PRODID:-//jEvents 2.0 for Joomla//EN
CALSCALE:GREGORIAN
METHOD:PUBLISH
BEGIN:VEVENT
UID:48def02e14cabdf76b949d2936662fbb
CATEGORIES:DEFAULT
SUMMARY:Repas
DESCRIPTION;ENCODING=QUOTED-PRINTABLE:<p>Repas au Hangochet organisé par : Francine Habert (03 29 56 55 01) et Je
 an-Charles Martin.</p><p>Inscription obligatoire.</p>
X-EXTRAINFO:.
DTSTAMP:20260423T160311Z
DTSTART:20230514T100000Z
SEQUENCE:0
TRANSP:OPAQUE
END:VEVENT
END:VCALENDAR