BEGIN:VCALENDAR
VERSION:2.0
PRODID:-//jEvents 2.0 for Joomla//EN
CALSCALE:GREGORIAN
METHOD:PUBLISH
BEGIN:VEVENT
UID:ac90ab5768182ebce447cf0a20d016b9
CATEGORIES:DEFAULT
SUMMARY:Tour du Kemberg
DESCRIPTION;ENCODING=QUOTED-PRINTABLE:\n\nOrganisé par le Club Vosgien de St-Dié\n
X-EXTRAINFO:.
DTSTAMP:20260423T181006Z
DTSTART;VALUE=DATE:20230501
DTEND;VALUE=DATE:20230502
SEQUENCE:0
TRANSP:OPAQUE
END:VEVENT
END:VCALENDAR