BEGIN:VCALENDAR
VERSION:2.0
PRODID:-//jEvents 2.0 for Joomla//EN
CALSCALE:GREGORIAN
METHOD:PUBLISH
BEGIN:VEVENT
UID:ceb693c3d9e380f214344264a736c794
CATEGORIES:DEFAULT
SUMMARY:Randonnée
DESCRIPTION;ENCODING=QUOTED-PRINTABLE:<p>Randonnée organisée par : Josiane L'Hôte</p>
X-EXTRAINFO:.
DTSTAMP:20260423T131659Z
DTSTART:20230426T063000Z
SEQUENCE:0
TRANSP:OPAQUE
END:VEVENT
END:VCALENDAR